BEGIN:VCALENDAR
VERSION:2.0
PRODID:-//Zi Zai Dong Zen Association Inc.   - ECPv4.0.5//NONSGML v1.0//EN
CALSCALE:GREGORIAN
METHOD:PUBLISH
X-WR-CALNAME:Zi Zai Dong Zen Association Inc.  
X-ORIGINAL-URL:https://zzdz.org.au
X-WR-CALDESC:Events for Zi Zai Dong Zen Association Inc.  
BEGIN:VEVENT
DTSTART;TZID="UTC+10":20260411T090000
DTEND;TZID="UTC+10":20260411T120000
DTSTAMP:20260417T122537
CREATED:20260325T091019
LAST-MODIFIED:20260325T091415
UID:1911-1775898000-1775908800@zzdz.org.au
SUMMARY:Energy Healing- Phap Quang Temple(Open)
DESCRIPTION:
URL:https://zzdz.org.au/event/energy-healing-phap-quang-temple/
LOCATION:12 Freeman Rd\, Durack\, QLD\, 4077\, Australia
END:VEVENT
END:VCALENDAR