BEGIN:VCALENDAR
VERSION:2.0
PRODID:-//Zi Zai Dong Zen Association Inc.   - ECPv4.0.5//NONSGML v1.0//EN
CALSCALE:GREGORIAN
METHOD:PUBLISH
X-WR-CALNAME:Zi Zai Dong Zen Association Inc.  
X-ORIGINAL-URL:https://zzdz.org.au
X-WR-CALDESC:Events for Zi Zai Dong Zen Association Inc.  
BEGIN:VEVENT
DTSTART;TZID="UTC+10":20260413T090000
DTEND;TZID="UTC+10":20260413T120000
DTSTAMP:20260417T124529
CREATED:20260221T094031
LAST-MODIFIED:20260325T092335
UID:1875-1776070800-1776081600@zzdz.org.au
SUMMARY:Energy Healing - 10 Cognac Ct\, Calamvale(Close)
DESCRIPTION:
URL:https://zzdz.org.au/event/energy-healing-10-cognac-ct-calamvaleclose-14/
LOCATION:10 Cognac Ct\, Calamvale\, Brisbane\, QLD\, 4116\, Australia
END:VEVENT
END:VCALENDAR