BEGIN:VCALENDAR
VERSION:2.0
PRODID:-//Zi Zai Dong Zen Association Inc.   - ECPv4.0.5//NONSGML v1.0//EN
CALSCALE:GREGORIAN
METHOD:PUBLISH
X-WR-CALNAME:Zi Zai Dong Zen Association Inc.  
X-ORIGINAL-URL:https://zzdz.org.au
X-WR-CALDESC:Events for Zi Zai Dong Zen Association Inc.  
BEGIN:VEVENT
DTSTART;TZID="UTC+10":20260327T090000
DTEND;TZID="UTC+10":20260327T120000
DTSTAMP:20260417T124804
CREATED:20251011T110318
LAST-MODIFIED:20260221T093128
UID:1853-1774602000-1774612800@zzdz.org.au
SUMMARY:Energy Healing - 10 Cognac Ct\, Calamvale(Close)
DESCRIPTION:
URL:https://zzdz.org.au/event/energy-healing-10-cognac-ct-calamvaleclose-13/
LOCATION:10 Cognac Ct\, Calamvale\, Brisbane\, QLD\, 4116\, Australia
END:VEVENT
END:VCALENDAR