BEGIN:VCALENDAR
VERSION:2.0
PRODID:-//Zi Zai Dong Zen Association Inc.   - ECPv4.0.5//NONSGML v1.0//EN
CALSCALE:GREGORIAN
METHOD:PUBLISH
X-WR-CALNAME:Zi Zai Dong Zen Association Inc.  
X-ORIGINAL-URL:https://zzdz.org.au
X-WR-CALDESC:Events for Zi Zai Dong Zen Association Inc.  
BEGIN:VEVENT
DTSTART;TZID="UTC+10":20260410T090000
DTEND;TZID="UTC+10":20260410T120000
DTSTAMP:20260417T123755
CREATED:20180724T113250
LAST-MODIFIED:20260221T093651
UID:1246-1775811600-1775822400@zzdz.org.au
SUMMARY:Energy Healing - 10 Cognac Ct\, Calamvale(Close)
DESCRIPTION:
URL:https://zzdz.org.au/event/energy-healing-10-cognac-ct-calamvale-23/
LOCATION:12 Freeman Rd\, Durack\, QLD\, 4077\, Australia
END:VEVENT
END:VCALENDAR