BEGIN:VCALENDAR
VERSION:2.0
PRODID:-//Zi Zai Dong Zen Association Inc.   - ECPv4.0.5//NONSGML v1.0//EN
CALSCALE:GREGORIAN
METHOD:PUBLISH
X-WR-CALNAME:Zi Zai Dong Zen Association Inc.  
X-ORIGINAL-URL:https://zzdz.org.au
X-WR-CALDESC:Events for Zi Zai Dong Zen Association Inc.  
BEGIN:VEVENT
DTSTART;TZID="UTC+10":20260401T090000
DTEND;TZID="UTC+10":20260401T120000
DTSTAMP:20260417T123456
CREATED:20180527T055505
LAST-MODIFIED:20260221T093234
UID:1227-1775034000-1775044800@zzdz.org.au
SUMMARY:Energy Healing - 10 Cognac Ct\, Calamvale(Close)
DESCRIPTION:
URL:https://zzdz.org.au/event/energy-healing-10-cognac-ct-calamvale-21/
LOCATION:10 Cognac Ct\, Calamvale\, Brisbane\, QLD\, 4116\, Australia
END:VEVENT
END:VCALENDAR